BEGIN:VCALENDAR
VERSION:2.0
PRODID:-//Hilltop Child and Family Development Center - ECPv6.9.0//NONSGML v1.0//EN
CALSCALE:GREGORIAN
METHOD:PUBLISH
X-WR-CALNAME:Hilltop Child and Family Development Center
X-ORIGINAL-URL:https://hilltopstl.org
X-WR-CALDESC:Events for Hilltop Child and Family Development Center
REFRESH-INTERVAL;VALUE=DURATION:PT1H
X-Robots-Tag:noindex
X-PUBLISHED-TTL:PT1H
BEGIN:VTIMEZONE
TZID:UTC
BEGIN:STANDARD
TZOFFSETFROM:+0000
TZOFFSETTO:+0000
TZNAME:UTC
DTSTART:20220101T000000
END:STANDARD
END:VTIMEZONE
BEGIN:VEVENT
DTSTART;VALUE=DATE:20220402
DTEND;VALUE=DATE:20220409
DTSTAMP:20260423T082254
CREATED:20210910T185744Z
LAST-MODIFIED:20210910T185744Z
UID:767-1648857600-1649462399@hilltopstl.org
SUMMARY:Week of the Young Child
DESCRIPTION:
URL:https://hilltopstl.org/events/week-of-the-young-child/
CATEGORIES:Events
END:VEVENT
BEGIN:VEVENT
DTSTART;VALUE=DATE:20220415
DTEND;VALUE=DATE:20220416
DTSTAMP:20260423T082254
CREATED:20210910T185817Z
LAST-MODIFIED:20210910T190404Z
UID:769-1649980800-1650067199@hilltopstl.org
SUMMARY:CLOSED – Good Friday
DESCRIPTION:
URL:https://hilltopstl.org/events/closed-good-friday/
CATEGORIES:Schedule
END:VEVENT
BEGIN:VEVENT
DTSTART;VALUE=DATE:20220417
DTEND;VALUE=DATE:20220418
DTSTAMP:20260423T082254
CREATED:20220324T155714Z
LAST-MODIFIED:20220324T155714Z
UID:1157-1650153600-1650239999@hilltopstl.org
SUMMARY:Happy Easter
DESCRIPTION:
URL:https://hilltopstl.org/events/happy-easter/
END:VEVENT
END:VCALENDAR