BEGIN:VCALENDAR
VERSION:2.0
PRODID:-//Hilltop Child and Family Development Center - ECPv6.9.0//NONSGML v1.0//EN
CALSCALE:GREGORIAN
METHOD:PUBLISH
X-WR-CALNAME:Hilltop Child and Family Development Center
X-ORIGINAL-URL:https://hilltopstl.org
X-WR-CALDESC:Events for Hilltop Child and Family Development Center
REFRESH-INTERVAL;VALUE=DURATION:PT1H
X-Robots-Tag:noindex
X-PUBLISHED-TTL:PT1H
BEGIN:VTIMEZONE
TZID:UTC
BEGIN:STANDARD
TZOFFSETFROM:+0000
TZOFFSETTO:+0000
TZNAME:UTC
DTSTART:20220101T000000
END:STANDARD
END:VTIMEZONE
BEGIN:VEVENT
DTSTART;VALUE=DATE:20221222
DTEND;VALUE=DATE:20221223
DTSTAMP:20260420T184449
CREATED:20221206T193751Z
LAST-MODIFIED:20221206T193751Z
UID:1327-1671667200-1671753599@hilltopstl.org
SUMMARY:Breakfast: Fruit Danish\, Apples\, 1% Milk   Lunch: Cheeseburger\, Green Beans\, Peaches\, 1% Milk
DESCRIPTION:
URL:https://hilltopstl.org/events/breakfast-fruit-danish-apples-1-milk-lunch-cheeseburger-green-beans-peaches-1-milk/
END:VEVENT
BEGIN:VEVENT
DTSTART;VALUE=DATE:20221221
DTEND;VALUE=DATE:20221222
DTSTAMP:20260420T184449
CREATED:20221206T193625Z
LAST-MODIFIED:20221206T193710Z
UID:1323-1671580800-1671667199@hilltopstl.org
SUMMARY:Breakfast: Cereal\, Apples\, 1% Milk   Lunch: Grilled Cheese\, Tomato Soup\, Carrots\, Apples\, 1% Milk
DESCRIPTION:
URL:https://hilltopstl.org/events/breakfast-cereal-apples-1-milk-lunch-grilled-cheese-tomato-soup-carrots-apples-1-milk/
END:VEVENT
BEGIN:VEVENT
DTSTART;VALUE=DATE:20221220
DTEND;VALUE=DATE:20221221
DTSTAMP:20260420T184449
CREATED:20221206T193525Z
LAST-MODIFIED:20221206T193525Z
UID:1321-1671494400-1671580799@hilltopstl.org
SUMMARY:Breakfast: Chicken & WG Waffle Slider\, 100% Apple Juice\, 1% Milk   Lunch: CN Pepperoni Smart Pizza\, Corn\, Oranges\, 1% Milk
DESCRIPTION:
URL:https://hilltopstl.org/events/breakfast-chicken-wg-waffle-slider-100-apple-juice-1-milk-lunch-cn-pepperoni-smart-pizza-corn-oranges-1-milk/
END:VEVENT
BEGIN:VEVENT
DTSTART;VALUE=DATE:20221219
DTEND;VALUE=DATE:20221220
DTSTAMP:20260420T184449
CREATED:20221206T193408Z
LAST-MODIFIED:20221206T193408Z
UID:1319-1671408000-1671494399@hilltopstl.org
SUMMARY:Breakfast: CN WG Berry Cream Bites\, Blueberries\, 1% Milk   Lunch: Chicken Alfredo\, Green Beans\, Peaches\, 1% Milk
DESCRIPTION:
URL:https://hilltopstl.org/events/breakfast-cn-wg-berry-cream-bites-blueberries-1-milk-lunch-chicken-alfredo-green-beans-peaches-1-milk/
END:VEVENT
BEGIN:VEVENT
DTSTART;VALUE=DATE:20221216
DTEND;VALUE=DATE:20221217
DTSTAMP:20260420T184449
CREATED:20221206T193138Z
LAST-MODIFIED:20221206T193138Z
UID:1317-1671148800-1671235199@hilltopstl.org
SUMMARY:Breakfast: CN Fruit Yogurt Parfait\, WG Granola\, 1% Milk   Lunch: Beef Taco Bar W/ Grilled Veggies\, 100% Apple Juice\, 1% Milk
DESCRIPTION:
URL:https://hilltopstl.org/events/breakfast-cn-fruit-yogurt-parfait-wg-granola-1-milk-lunch-beef-taco-bar-w-grilled-veggies-100-apple-juice-1-milk/
END:VEVENT
BEGIN:VEVENT
DTSTART;VALUE=DATE:20221215
DTEND;VALUE=DATE:20221216
DTSTAMP:20260420T184449
CREATED:20221206T193032Z
LAST-MODIFIED:20221206T193032Z
UID:1315-1671062400-1671148799@hilltopstl.org
SUMMARY:Breakfast: Oatmeal\, Peaches\, 1% Milk   Lunch: Teriyaki Chicken\, Fried Rice\, Oranges\, Carrots\, 1% Milk
DESCRIPTION:
URL:https://hilltopstl.org/events/breakfast-oatmeal-peaches-1-milk-lunch-teriyaki-chicken-fried-rice-oranges-carrots-1-milk/
END:VEVENT
BEGIN:VEVENT
DTSTART;VALUE=DATE:20221214
DTEND;VALUE=DATE:20221215
DTSTAMP:20260420T184449
CREATED:20221206T192928Z
LAST-MODIFIED:20221206T192928Z
UID:1313-1670976000-1671062399@hilltopstl.org
SUMMARY:Breakfast: WG Blueberry Muffins\, Apples\, 1% Milk   Lunch: Sloppy Joe\, Corn\, Apples\, 1% Milk
DESCRIPTION:
URL:https://hilltopstl.org/events/breakfast-wg-blueberry-muffins-apples-1-milk-lunch-sloppy-joe-corn-apples-1-milk/
END:VEVENT
BEGIN:VEVENT
DTSTART;VALUE=DATE:20221213
DTEND;VALUE=DATE:20221214
DTSTAMP:20260420T184449
CREATED:20221206T192806Z
LAST-MODIFIED:20221206T192806Z
UID:1311-1670889600-1670975999@hilltopstl.org
SUMMARY:Breakfast: Cereal\, Apples\, 1% Milk   Lunch: WG Pasta W/Meat Sauce\, Green Beans\, Apples\, 1% Milk
DESCRIPTION:
URL:https://hilltopstl.org/events/breakfast-cereal-apples-1-milk-lunch-wg-pasta-w-meat-sauce-green-beans-apples-1-milk/
END:VEVENT
BEGIN:VEVENT
DTSTART;VALUE=DATE:20221212
DTEND;VALUE=DATE:20221213
DTSTAMP:20260420T184449
CREATED:20221206T192622Z
LAST-MODIFIED:20221206T192622Z
UID:1308-1670803200-1670889599@hilltopstl.org
SUMMARY:Breakfast: Biscuits W/Jelly\, Strawberries\, 1% Milk   Lunch: Chicken Nuggets\, WG Roll\, Corn\, Peaches\, 1% Milk
DESCRIPTION:
URL:https://hilltopstl.org/events/breakfast-biscuits-w-jelly-strawberries-1-milk-lunch-chicken-nuggets-wg-roll-corn-peaches-1-milk/
END:VEVENT
BEGIN:VEVENT
DTSTART;VALUE=DATE:20221209
DTEND;VALUE=DATE:20221210
DTSTAMP:20260420T184449
CREATED:20221206T192324Z
LAST-MODIFIED:20221206T192707Z
UID:1306-1670544000-1670630399@hilltopstl.org
SUMMARY:Breakfast: CN Fruit Yogurt Parfait\, WG Granola\, 1% Milk   Lunch: Grilled Cheese\, Tomato Soup\, Carrots\, Apples\, 1% Milk
DESCRIPTION:
URL:https://hilltopstl.org/events/breakfast-cn-fruit-yogurt-parfait-wg-granola-1-milk-lunch-grilled-cheese-tomato-soup-carrots-apples-1-milk/
END:VEVENT
BEGIN:VEVENT
DTSTART;VALUE=DATE:20221208
DTEND;VALUE=DATE:20221209
DTSTAMP:20260420T184449
CREATED:20221206T192132Z
LAST-MODIFIED:20221206T192132Z
UID:1304-1670457600-1670543999@hilltopstl.org
SUMMARY:Breakfast: CN WG Berry Cream Bites\, Blueberries\, 1% Milk   Lunch: Chili\, Crackers\, Oranges\, 1% Milk
DESCRIPTION:
URL:https://hilltopstl.org/events/breakfast-cn-wg-berry-cream-bites-blueberries-1-milk-lunch-chili-crackers-oranges-1-milk/
END:VEVENT
BEGIN:VEVENT
DTSTART;VALUE=DATE:20221207
DTEND;VALUE=DATE:20221208
DTSTAMP:20260420T184449
CREATED:20221206T191945Z
LAST-MODIFIED:20221206T191945Z
UID:1302-1670371200-1670457599@hilltopstl.org
SUMMARY:Breakfast: Chicken & WG Waffle Slider\, 100% Apple Juice\, 1% Milk   Lunch: BBQ Chicken Legs\, Veg. Rice\, Oranges\, 1% Milk
DESCRIPTION:
URL:https://hilltopstl.org/events/breakfast-chicken-wg-waffle-slider-100-apple-juice-1-milk-lunch-bbq-chicken-legs-veg-rice-oranges-1-milk/
END:VEVENT
BEGIN:VEVENT
DTSTART;VALUE=DATE:20221124
DTEND;VALUE=DATE:20221126
DTSTAMP:20260420T184449
CREATED:20220324T183645Z
LAST-MODIFIED:20220324T183645Z
UID:1166-1669248000-1669420799@hilltopstl.org
SUMMARY:Center Closed for Thanksgiving
DESCRIPTION:
URL:https://hilltopstl.org/events/center-closed-for-thanksgiving/
END:VEVENT
BEGIN:VEVENT
DTSTART;VALUE=DATE:20220930
DTEND;VALUE=DATE:20221001
DTSTAMP:20260420T184449
CREATED:20220908T192529Z
LAST-MODIFIED:20220908T192529Z
UID:1285-1664496000-1664582399@hilltopstl.org
SUMMARY:Breakfast: CN Fruit Yogurt Parfait\, WG Granola\, 1% Milk   Lunch Hot: Chicken & Cheese Wrap\, Carrots\, Apples\, 1% Milk    Lunch Cold: Caesar / Garden Salad Bar    Snack: 100% Fruit Juice\, WG Animal Crackers
DESCRIPTION:
URL:https://hilltopstl.org/events/breakfast-cn-fruit-yogurt-parfait-wg-granola-1-milk-lunch-hot-chicken-cheese-wrap-carrots-apples-1-milk-lunch-cold-caesar-garden-salad-bar-snack-100-fruit-juice-wg-animal-cracker/
CATEGORIES:Meals
END:VEVENT
BEGIN:VEVENT
DTSTART;VALUE=DATE:20220929
DTEND;VALUE=DATE:20220930
DTSTAMP:20260420T184449
CREATED:20220908T192316Z
LAST-MODIFIED:20220908T192355Z
UID:1282-1664409600-1664495999@hilltopstl.org
SUMMARY:Breakfast: Cereal\, Oranges\, 1% Milk   Lunch Hot: Beef Taco Bar w/ Grilled Veggies\, 100% Apple Juice\, 1% Milk    Lunch Cold: Caesar / Garden Salad Bar    Snack: 1% Milk\, Trail Mix
DESCRIPTION:
URL:https://hilltopstl.org/events/breakfast-cereal-oranges1-milk-lunch-hot-beef-taco-bar-w-grilled-veggies-100-apple-juice-1-milk-lunch-cold-caesar-garden-salad-bar-snack-1-milk-trail-mix/
CATEGORIES:Meals
END:VEVENT
BEGIN:VEVENT
DTSTART;VALUE=DATE:20220928
DTEND;VALUE=DATE:20220929
DTSTAMP:20260420T184449
CREATED:20220908T192200Z
LAST-MODIFIED:20220908T192200Z
UID:1280-1664323200-1664409599@hilltopstl.org
SUMMARY:Breakfast: WG Blueberry Muffin\, Apples\, 1% Milk   Lunch Hot: Chicken and Veg. Fried Rice\, Peaches\, 1% Milk    Lunch Cold: Caesar / Garden Salad Bar    Snack: 1% Milk\, WG Graham Crackers\, Banana
DESCRIPTION:
URL:https://hilltopstl.org/events/breakfast-wg-blueberry-muffin-apples-1-milk-lunch-hot-chicken-and-veg-fried-rice-peaches-1-milk-lunch-cold-caesar-garden-salad-bar-snack-1-milk-wg-graham-crackers-banana/
CATEGORIES:Meals
END:VEVENT
BEGIN:VEVENT
DTSTART;VALUE=DATE:20220927
DTEND;VALUE=DATE:20220928
DTSTAMP:20260420T184449
CREATED:20220908T192043Z
LAST-MODIFIED:20220908T192043Z
UID:1278-1664236800-1664323199@hilltopstl.org
SUMMARY:Breakfast: CN WG Berry Cream Bites\, Blueberries\, 1% Milk   Lunch Hot: CN Pepperoni Smart Pizza\, Corn\, Oranges\, 1% Milk    Lunch Cold: Caesar / Garden Salad Bar    Snack: 100% Fruit Juice\, Yogurt
DESCRIPTION:
URL:https://hilltopstl.org/events/breakfast-cn-wg-berry-cream-bites-blueberries-1-milk-lunch-hot-cn-pepperoni-smart-pizza-corn-oranges-1-milk-lunch-cold-caesar-garden-salad-bar-snack-100-fruit-juice-yogurt/
CATEGORIES:Meals
END:VEVENT
BEGIN:VEVENT
DTSTART;VALUE=DATE:20220926
DTEND;VALUE=DATE:20220927
DTSTAMP:20260420T184449
CREATED:20220908T191317Z
LAST-MODIFIED:20220908T191317Z
UID:1276-1664150400-1664236799@hilltopstl.org
SUMMARY:Breakfast: Chicken & WG Waffle Slider\, 100% Apple Juice\, 1% Milk   Lunch Hot: Chicken Salad on Wheat\, Apples\, Carrots\, 1% Milk    Lunch Cold: Caesar / Garden Salad Bar    Snack: 1% Milk\, Island Dried Fruit
DESCRIPTION:
URL:https://hilltopstl.org/events/breakfast-chicken-wg-waffle-slider-100-apple-juice-1-milk-lunch-hot-chicken-salad-on-wheat-apples-carrots-1-milk-lunch-cold-caesar-garden-salad-bar-snack-1-milk-island-dried-frui/
CATEGORIES:Meals
END:VEVENT
BEGIN:VEVENT
DTSTART;VALUE=DATE:20220923
DTEND;VALUE=DATE:20220924
DTSTAMP:20260420T184449
CREATED:20220908T191119Z
LAST-MODIFIED:20220908T191119Z
UID:1274-1663891200-1663977599@hilltopstl.org
SUMMARY:Breakfast: Cn Fruit Yogurt Parfait\, WG Granola\, 1% Milk   Lunch Hot: Alfredo w/ WG Pasta & HM Chicken\, Green Beans\, Oranges\, 1% Milk    Lunch Cold: Caesar / Garden Salad Bar    Snack: 100% Fruit Juice\, Peanut Butter Crackers
DESCRIPTION:
URL:https://hilltopstl.org/events/breakfast-cn-fruit-yogurt-parfait-wg-granola-1-milk-lunch-hot-alfredo-w-wg-pasta-hm-chicken-green-beans-oranges-1-milk-lunch-cold-caesar-garden-salad-bar-snack-100-fruit-juice-p/
CATEGORIES:Meals
END:VEVENT
BEGIN:VEVENT
DTSTART;VALUE=DATE:20220922
DTEND;VALUE=DATE:20220923
DTSTAMP:20260420T184449
CREATED:20220908T190940Z
LAST-MODIFIED:20220908T190940Z
UID:1272-1663804800-1663891199@hilltopstl.org
SUMMARY:Breakfast: Biscuits w/ Jelly\, Strawberries\, 1% Milk   Lunch Hot: Turkey Meatballs\, Mashed Potatoes\, WG Roll\, Mixed Fruit\, 1% Milk    Lunch Cold: Caesar / Garden Salad Bar    Snack: 100% Fruit Juice\, Mozzarella String Cheese\, WG Crackers
DESCRIPTION:
URL:https://hilltopstl.org/events/breakfast-biscuits-w-jelly-strawberries-1-milk-lunch-hot-turkey-meatballs-mashed-potatoes-wg-roll-mixed-fruit-1-milk-lunch-cold-caesar-garden-salad-bar-snack-100-fruit-juice-mozz/
CATEGORIES:Meals
END:VEVENT
BEGIN:VEVENT
DTSTART;VALUE=DATE:20220921
DTEND;VALUE=DATE:20220922
DTSTAMP:20260420T184449
CREATED:20220908T190746Z
LAST-MODIFIED:20220908T190746Z
UID:1270-1663718400-1663804799@hilltopstl.org
SUMMARY:Breakfast: Cereal\, Apples\, 1% Milk   Lunch Hot: BBQ Chicken Legs\, Veg. Rice\, Oranges\, 1% Milk    Lunch Cold: Caesar / Garden Salad Bar    Snack: 1% Milk\, Yogurt & WG Graham Crackers
DESCRIPTION:
URL:https://hilltopstl.org/events/breakfast-cereal-apples-1-milk-lunch-hot-bbq-chicken-legs-veg-rice-oranges-1-milk-lunch-cold-caesar-garden-salad-bar-snack-1-milk-yogurt-wg-graham-crackers/
CATEGORIES:Meals
END:VEVENT
BEGIN:VEVENT
DTSTART;VALUE=DATE:20220920
DTEND;VALUE=DATE:20220921
DTSTAMP:20260420T184449
CREATED:20220908T190620Z
LAST-MODIFIED:20220908T190620Z
UID:1268-1663632000-1663718399@hilltopstl.org
SUMMARY:Breakfast: Chicken & WG Waffle Slider\, 100% Apple Juice\, 1% Milk   Lunch Hot: Chicken Nuggets\, Carrots\, Peaches\, 1% Milk    Lunch Cold: Caesar / Garden Salad Bar    Snack: 1% Milk\, Trail Mix
DESCRIPTION:
URL:https://hilltopstl.org/events/breakfast-chicken-wg-waffle-slider-100-apple-juice-1-milk-lunch-hot-chicken-nuggets-carrots-peaches-1-milk-lunch-cold-caesar-garden-salad-bar-snack-1-milk-trail-mix/
CATEGORIES:Meals
END:VEVENT
BEGIN:VEVENT
DTSTART;VALUE=DATE:20220919
DTEND;VALUE=DATE:20220920
DTSTAMP:20260420T184449
CREATED:20220908T190429Z
LAST-MODIFIED:20220908T190429Z
UID:1266-1663545600-1663631999@hilltopstl.org
SUMMARY:Breakfast: CN WG Berry Cream Bites\, Blueberries\, 1% Milk   Lunch Hot: Sloppy Joe\, Corn\, Apples\, 1% Milk    Lunch Cold: Caesar / Garden Salad Bar    Snack: 1% Milk\, Banana
DESCRIPTION:
URL:https://hilltopstl.org/events/breakfast-cn-wg-berry-cream-bites-blueberries-1-milk-lunch-hot-sloppy-joe-corn-apples-1-milk-lunch-cold-caesar-garden-salad-bar-snack-1-milk-banana/
CATEGORIES:Meals
END:VEVENT
BEGIN:VEVENT
DTSTART;VALUE=DATE:20220916
DTEND;VALUE=DATE:20220917
DTSTAMP:20260420T184449
CREATED:20220908T190304Z
LAST-MODIFIED:20220908T190304Z
UID:1264-1663286400-1663372799@hilltopstl.org
SUMMARY:Breakfast: CN Fruit Yogurt Parfait\, WG Granola\, 1% Milk   Lunch Hot: Chili\, Crackers\, Peaches\, 1% Milk    Lunch Cold: Caesar / Garden Salad Bar    Snack: 1% Milk\, WG Blueberry Muffin
DESCRIPTION:
URL:https://hilltopstl.org/events/breakfast-cn-fruit-yogurt-parfait-wg-granola-1-milk-lunch-hot-chili-crackers-peaches-1-milk-lunch-cold-caesar-garden-salad-bar-snack-1-milk-wg-blueberry-muffin/
CATEGORIES:Meals
END:VEVENT
BEGIN:VEVENT
DTSTART;VALUE=DATE:20220915
DTEND;VALUE=DATE:20220916
DTSTAMP:20260420T184449
CREATED:20220908T190122Z
LAST-MODIFIED:20220908T190122Z
UID:1262-1663200000-1663286399@hilltopstl.org
SUMMARY:Breakfast: Oatmeal\, Peaches\, 1% Milk   Lunch Hot: Cheese Tortellini\, Green Beans\, Apples\, 1% Milk    Lunch Cold: Caesar / Garden Salad Bar    Snack: 100% Fruit Juice\, WG Pretzels
DESCRIPTION:
URL:https://hilltopstl.org/events/breakfast-oatmeal-peaches-1-milk-lunch-hot-cheese-tortellini-green-beans-apples-1-milk-lunch-cold-caesar-garden-salad-bar-snack-100-fruit-juice-wg-pretzels/
CATEGORIES:Meals
END:VEVENT
BEGIN:VEVENT
DTSTART;VALUE=DATE:20220914
DTEND;VALUE=DATE:20220915
DTSTAMP:20260420T184449
CREATED:20220908T185529Z
LAST-MODIFIED:20220908T185529Z
UID:1256-1663113600-1663199999@hilltopstl.org
SUMMARY:Breakfast: WG Blueberry Muffin\, Apples\, 1% Milk   Lunch Hot: Grilled Cheese\, Tomato Soup\, Carrots\, Apples\, 1% Milk    Lunch Cold: Caesar / Garden Salad Bar    Snack: 1% Milk\, WG Animal Crackers
DESCRIPTION:
URL:https://hilltopstl.org/events/breakfast-wg-blueberry-muffin-apples-1-milk-lunch-hot-grilled-cheese-tomato-soup-carrots-apples-1-milk-lunch-cold-caesar-garden-salad-bar-snack-1-milk-wg-animal-crackers/
CATEGORIES:Meals
END:VEVENT
BEGIN:VEVENT
DTSTART;VALUE=DATE:20220913
DTEND;VALUE=DATE:20220914
DTSTAMP:20260420T184449
CREATED:20220908T185120Z
LAST-MODIFIED:20220908T185737Z
UID:1254-1663027200-1663113599@hilltopstl.org
SUMMARY:Breakfast: Cereal\, Apples\, 1% Milk   Lunch Hot: Cheeseburger\, Green Beans\, Peaches\, 1% Milk    Lunch Cold: Caesar / Garden Salad Bar    Snack: 1% Milk\, WG Blueberry Muffin
DESCRIPTION:
URL:https://hilltopstl.org/events/breakfast-cereal-apples-1-milk-lunch-hot-cheeseburger-green-beans-peaches-1-milk-lunch-cold-ceaser-garden-salad-bar-snack-1-milk-wg-blueberry-muffin/
CATEGORIES:Meals
END:VEVENT
BEGIN:VEVENT
DTSTART;VALUE=DATE:20220912
DTEND;VALUE=DATE:20220913
DTSTAMP:20260420T184449
CREATED:20220908T184936Z
LAST-MODIFIED:20220908T185631Z
UID:1252-1662940800-1663027199@hilltopstl.org
SUMMARY:Breakfast: Biscuits w/ Jelly\, Strawberries\, 1% Milk   Lunch Hot: Chicken over WG Rice\, Mixed Veggies\, Oranges\, 1% Milk    Lunch Cold: Caesar / Garden Salad Bar    Snack: 100% Fruit Juice\, Yogurt
DESCRIPTION:
URL:https://hilltopstl.org/events/breakfast-biscuits-w-jelly-strawberries-1-milk-lunch-hot-chicken-over-wg-rice-mixed-veggies-oranges-1-milk-lunch-cold-ceaser-garden-salad-bar-snack-100-fruit-juice-yogurt/
CATEGORIES:Meals
END:VEVENT
BEGIN:VEVENT
DTSTART;VALUE=DATE:20220909
DTEND;VALUE=DATE:20220910
DTSTAMP:20260420T184449
CREATED:20220908T183509Z
LAST-MODIFIED:20220908T185425Z
UID:1249-1662681600-1662767999@hilltopstl.org
SUMMARY:Breakfast: CN Fruit Yogurt Parfait\, WG Granola\, 1% Milk   Lunch Hot: Beef Taco Bar W/ Grilled Veggies\, 100% Apple Juice or 1% Milk    Lunch Cold: Caesar  / Garden Salad Bar    Snack: 100% Fruit Juice\, WG PB & J
DESCRIPTION:
URL:https://hilltopstl.org/events/breakfast-cn-fruit-yogurt-parfait-wg-granola-1-milk-lunch-hot-beef-taco-bar-w-grilled-veggies-100-apple-juice-or-1-milk-lunch-cold-ceaser-garden-salad-bar-snack-100-fruit-juice-wg-pb/
CATEGORIES:Meals
END:VEVENT
BEGIN:VEVENT
DTSTART;VALUE=DATE:20220906
DTEND;VALUE=DATE:20220907
DTSTAMP:20260420T184449
CREATED:20220324T183540Z
LAST-MODIFIED:20220324T183540Z
UID:1164-1662422400-1662508799@hilltopstl.org
SUMMARY:First Day of Head Start School Year
DESCRIPTION:
URL:https://hilltopstl.org/events/first-day-of-head-start-school-year/
END:VEVENT
END:VCALENDAR