BEGIN:VCALENDAR
VERSION:2.0
PRODID:-//Hilltop Child and Family Development Center - ECPv6.9.0//NONSGML v1.0//EN
CALSCALE:GREGORIAN
METHOD:PUBLISH
X-WR-CALNAME:Hilltop Child and Family Development Center
X-ORIGINAL-URL:https://hilltopstl.org
X-WR-CALDESC:Events for Hilltop Child and Family Development Center
REFRESH-INTERVAL;VALUE=DURATION:PT1H
X-Robots-Tag:noindex
X-PUBLISHED-TTL:PT1H
BEGIN:VTIMEZONE
TZID:UTC
BEGIN:STANDARD
TZOFFSETFROM:+0000
TZOFFSETTO:+0000
TZNAME:UTC
DTSTART:20230101T000000
END:STANDARD
END:VTIMEZONE
BEGIN:VEVENT
DTSTART;VALUE=DATE:20230825
DTEND;VALUE=DATE:20230826
DTSTAMP:20260420T124855
CREATED:20210910T161849Z
LAST-MODIFIED:20210910T161849Z
UID:812-1692921600-1693007999@hilltopstl.org
SUMMARY:Tuition Due
DESCRIPTION:
URL:https://hilltopstl.org/events/tuition-due-2023-08-25/
CATEGORIES:Events
END:VEVENT
BEGIN:VEVENT
DTSTART;VALUE=DATE:20230818
DTEND;VALUE=DATE:20230819
DTSTAMP:20260420T124855
CREATED:20210910T161849Z
LAST-MODIFIED:20210910T161849Z
UID:811-1692316800-1692403199@hilltopstl.org
SUMMARY:Tuition Due
DESCRIPTION:
URL:https://hilltopstl.org/events/tuition-due-2023-08-18/
CATEGORIES:Events
END:VEVENT
BEGIN:VEVENT
DTSTART;VALUE=DATE:20230811
DTEND;VALUE=DATE:20230812
DTSTAMP:20260420T124855
CREATED:20210910T161849Z
LAST-MODIFIED:20210910T161849Z
UID:810-1691712000-1691798399@hilltopstl.org
SUMMARY:Tuition Due
DESCRIPTION:
URL:https://hilltopstl.org/events/tuition-due-2023-08-11/
CATEGORIES:Events
END:VEVENT
BEGIN:VEVENT
DTSTART;VALUE=DATE:20230804
DTEND;VALUE=DATE:20230805
DTSTAMP:20260420T124855
CREATED:20210910T161849Z
LAST-MODIFIED:20210910T161849Z
UID:809-1691107200-1691193599@hilltopstl.org
SUMMARY:Tuition Due
DESCRIPTION:
URL:https://hilltopstl.org/events/tuition-due-2023-08-04/
CATEGORIES:Events
END:VEVENT
BEGIN:VEVENT
DTSTART;VALUE=DATE:20230728
DTEND;VALUE=DATE:20230729
DTSTAMP:20260420T124855
CREATED:20210910T161849Z
LAST-MODIFIED:20210910T161849Z
UID:808-1690502400-1690588799@hilltopstl.org
SUMMARY:Tuition Due
DESCRIPTION:
URL:https://hilltopstl.org/events/tuition-due-2023-07-28/
CATEGORIES:Events
END:VEVENT
BEGIN:VEVENT
DTSTART;VALUE=DATE:20230721
DTEND;VALUE=DATE:20230722
DTSTAMP:20260420T124855
CREATED:20210910T161849Z
LAST-MODIFIED:20210910T161849Z
UID:807-1689897600-1689983999@hilltopstl.org
SUMMARY:Tuition Due
DESCRIPTION:
URL:https://hilltopstl.org/events/tuition-due-2023-07-21/
CATEGORIES:Events
END:VEVENT
BEGIN:VEVENT
DTSTART;VALUE=DATE:20230714
DTEND;VALUE=DATE:20230715
DTSTAMP:20260420T124855
CREATED:20210910T161849Z
LAST-MODIFIED:20210910T161849Z
UID:806-1689292800-1689379199@hilltopstl.org
SUMMARY:Tuition Due
DESCRIPTION:
URL:https://hilltopstl.org/events/tuition-due-2023-07-14/
CATEGORIES:Events
END:VEVENT
BEGIN:VEVENT
DTSTART;VALUE=DATE:20230707
DTEND;VALUE=DATE:20230708
DTSTAMP:20260420T124855
CREATED:20210910T161849Z
LAST-MODIFIED:20210910T161849Z
UID:805-1688688000-1688774399@hilltopstl.org
SUMMARY:Tuition Due
DESCRIPTION:
URL:https://hilltopstl.org/events/tuition-due-2023-07-07/
CATEGORIES:Events
END:VEVENT
BEGIN:VEVENT
DTSTART;VALUE=DATE:20230630
DTEND;VALUE=DATE:20230701
DTSTAMP:20260420T124855
CREATED:20210910T161849Z
LAST-MODIFIED:20210910T161849Z
UID:804-1688083200-1688169599@hilltopstl.org
SUMMARY:Tuition Due
DESCRIPTION:
URL:https://hilltopstl.org/events/tuition-due-2023-06-30/
CATEGORIES:Events
END:VEVENT
BEGIN:VEVENT
DTSTART;VALUE=DATE:20230623
DTEND;VALUE=DATE:20230624
DTSTAMP:20260420T124855
CREATED:20210910T161849Z
LAST-MODIFIED:20210910T161849Z
UID:803-1687478400-1687564799@hilltopstl.org
SUMMARY:Tuition Due
DESCRIPTION:
URL:https://hilltopstl.org/events/tuition-due-2023-06-23/
CATEGORIES:Events
END:VEVENT
BEGIN:VEVENT
DTSTART;VALUE=DATE:20230616
DTEND;VALUE=DATE:20230617
DTSTAMP:20260420T124855
CREATED:20210910T161849Z
LAST-MODIFIED:20210910T161849Z
UID:802-1686873600-1686959999@hilltopstl.org
SUMMARY:Tuition Due
DESCRIPTION:
URL:https://hilltopstl.org/events/tuition-due-2023-06-16/
CATEGORIES:Events
END:VEVENT
BEGIN:VEVENT
DTSTART;VALUE=DATE:20230609
DTEND;VALUE=DATE:20230610
DTSTAMP:20260420T124855
CREATED:20210910T161849Z
LAST-MODIFIED:20210910T161849Z
UID:801-1686268800-1686355199@hilltopstl.org
SUMMARY:Tuition Due
DESCRIPTION:
URL:https://hilltopstl.org/events/tuition-due-2023-06-09/
CATEGORIES:Events
END:VEVENT
BEGIN:VEVENT
DTSTART;VALUE=DATE:20230602
DTEND;VALUE=DATE:20230603
DTSTAMP:20260420T124855
CREATED:20210910T161849Z
LAST-MODIFIED:20210910T161849Z
UID:800-1685664000-1685750399@hilltopstl.org
SUMMARY:Tuition Due
DESCRIPTION:
URL:https://hilltopstl.org/events/tuition-due-2023-06-02/
CATEGORIES:Events
END:VEVENT
BEGIN:VEVENT
DTSTART;VALUE=DATE:20230526
DTEND;VALUE=DATE:20230527
DTSTAMP:20260420T124855
CREATED:20210910T161849Z
LAST-MODIFIED:20210910T161849Z
UID:799-1685059200-1685145599@hilltopstl.org
SUMMARY:Tuition Due
DESCRIPTION:
URL:https://hilltopstl.org/events/tuition-due-2023-05-26/
CATEGORIES:Events
END:VEVENT
BEGIN:VEVENT
DTSTART;VALUE=DATE:20230519
DTEND;VALUE=DATE:20230520
DTSTAMP:20260420T124855
CREATED:20210910T161849Z
LAST-MODIFIED:20210910T161849Z
UID:798-1684454400-1684540799@hilltopstl.org
SUMMARY:Tuition Due
DESCRIPTION:
URL:https://hilltopstl.org/events/tuition-due-2023-05-19/
CATEGORIES:Events
END:VEVENT
BEGIN:VEVENT
DTSTART;VALUE=DATE:20230512
DTEND;VALUE=DATE:20230513
DTSTAMP:20260420T124855
CREATED:20210910T161849Z
LAST-MODIFIED:20210910T161849Z
UID:797-1683849600-1683935999@hilltopstl.org
SUMMARY:Tuition Due
DESCRIPTION:
URL:https://hilltopstl.org/events/tuition-due-2023-05-12/
CATEGORIES:Events
END:VEVENT
BEGIN:VEVENT
DTSTART;VALUE=DATE:20230505
DTEND;VALUE=DATE:20230506
DTSTAMP:20260420T124855
CREATED:20210910T161849Z
LAST-MODIFIED:20210910T161849Z
UID:796-1683244800-1683331199@hilltopstl.org
SUMMARY:Tuition Due
DESCRIPTION:
URL:https://hilltopstl.org/events/tuition-due-2023-05-05/
CATEGORIES:Events
END:VEVENT
BEGIN:VEVENT
DTSTART;VALUE=DATE:20230428
DTEND;VALUE=DATE:20230429
DTSTAMP:20260420T124855
CREATED:20210910T161849Z
LAST-MODIFIED:20210910T161849Z
UID:795-1682640000-1682726399@hilltopstl.org
SUMMARY:Tuition Due
DESCRIPTION:
URL:https://hilltopstl.org/events/tuition-due-2023-04-28/
CATEGORIES:Events
END:VEVENT
BEGIN:VEVENT
DTSTART;VALUE=DATE:20230421
DTEND;VALUE=DATE:20230422
DTSTAMP:20260420T124855
CREATED:20210910T161849Z
LAST-MODIFIED:20210910T161849Z
UID:794-1682035200-1682121599@hilltopstl.org
SUMMARY:Tuition Due
DESCRIPTION:
URL:https://hilltopstl.org/events/tuition-due-2023-04-21/
CATEGORIES:Events
END:VEVENT
BEGIN:VEVENT
DTSTART;VALUE=DATE:20230414
DTEND;VALUE=DATE:20230415
DTSTAMP:20260420T124855
CREATED:20210910T161849Z
LAST-MODIFIED:20210910T161849Z
UID:793-1681430400-1681516799@hilltopstl.org
SUMMARY:Tuition Due
DESCRIPTION:
URL:https://hilltopstl.org/events/tuition-due-2023-04-14/
CATEGORIES:Events
END:VEVENT
BEGIN:VEVENT
DTSTART;VALUE=DATE:20230407
DTEND;VALUE=DATE:20230408
DTSTAMP:20260420T124855
CREATED:20210910T161849Z
LAST-MODIFIED:20210910T161849Z
UID:792-1680825600-1680911999@hilltopstl.org
SUMMARY:Tuition Due
DESCRIPTION:
URL:https://hilltopstl.org/events/tuition-due-2023-04-07/
CATEGORIES:Events
END:VEVENT
BEGIN:VEVENT
DTSTART;VALUE=DATE:20230331
DTEND;VALUE=DATE:20230401
DTSTAMP:20260420T124855
CREATED:20210910T161849Z
LAST-MODIFIED:20210910T161849Z
UID:791-1680220800-1680307199@hilltopstl.org
SUMMARY:Tuition Due
DESCRIPTION:
URL:https://hilltopstl.org/events/tuition-due-2023-03-31/
CATEGORIES:Events
END:VEVENT
BEGIN:VEVENT
DTSTART;VALUE=DATE:20230324
DTEND;VALUE=DATE:20230325
DTSTAMP:20260420T124855
CREATED:20210910T161849Z
LAST-MODIFIED:20210910T161849Z
UID:790-1679616000-1679702399@hilltopstl.org
SUMMARY:Tuition Due
DESCRIPTION:
URL:https://hilltopstl.org/events/tuition-due-2023-03-24/
CATEGORIES:Events
END:VEVENT
BEGIN:VEVENT
DTSTART;VALUE=DATE:20230317
DTEND;VALUE=DATE:20230318
DTSTAMP:20260420T124855
CREATED:20210910T161849Z
LAST-MODIFIED:20210910T161849Z
UID:789-1679011200-1679097599@hilltopstl.org
SUMMARY:Tuition Due
DESCRIPTION:
URL:https://hilltopstl.org/events/tuition-due-2023-03-17/
CATEGORIES:Events
END:VEVENT
BEGIN:VEVENT
DTSTART;VALUE=DATE:20230310
DTEND;VALUE=DATE:20230311
DTSTAMP:20260420T124855
CREATED:20210910T161849Z
LAST-MODIFIED:20210910T161849Z
UID:788-1678406400-1678492799@hilltopstl.org
SUMMARY:Tuition Due
DESCRIPTION:
URL:https://hilltopstl.org/events/tuition-due-2023-03-10/
CATEGORIES:Events
END:VEVENT
BEGIN:VEVENT
DTSTART;VALUE=DATE:20230303
DTEND;VALUE=DATE:20230304
DTSTAMP:20260420T124855
CREATED:20210910T161849Z
LAST-MODIFIED:20210910T161849Z
UID:787-1677801600-1677887999@hilltopstl.org
SUMMARY:Tuition Due
DESCRIPTION:
URL:https://hilltopstl.org/events/tuition-due-2023-03-03/
CATEGORIES:Events
END:VEVENT
BEGIN:VEVENT
DTSTART;VALUE=DATE:20230224
DTEND;VALUE=DATE:20230225
DTSTAMP:20260420T124855
CREATED:20210910T161849Z
LAST-MODIFIED:20210910T161849Z
UID:786-1677196800-1677283199@hilltopstl.org
SUMMARY:Tuition Due
DESCRIPTION:
URL:https://hilltopstl.org/events/tuition-due-2023-02-24/
CATEGORIES:Events
END:VEVENT
BEGIN:VEVENT
DTSTART;VALUE=DATE:20230217
DTEND;VALUE=DATE:20230218
DTSTAMP:20260420T124855
CREATED:20210910T161849Z
LAST-MODIFIED:20210910T161849Z
UID:785-1676592000-1676678399@hilltopstl.org
SUMMARY:Tuition Due
DESCRIPTION:
URL:https://hilltopstl.org/events/tuition-due-2023-02-17/
CATEGORIES:Events
END:VEVENT
BEGIN:VEVENT
DTSTART;VALUE=DATE:20230210
DTEND;VALUE=DATE:20230211
DTSTAMP:20260420T124855
CREATED:20210910T161849Z
LAST-MODIFIED:20210910T161849Z
UID:784-1675987200-1676073599@hilltopstl.org
SUMMARY:Tuition Due
DESCRIPTION:
URL:https://hilltopstl.org/events/tuition-due-2023-02-10/
CATEGORIES:Events
END:VEVENT
BEGIN:VEVENT
DTSTART;VALUE=DATE:20230203
DTEND;VALUE=DATE:20230204
DTSTAMP:20260420T124855
CREATED:20210910T161849Z
LAST-MODIFIED:20210910T161849Z
UID:783-1675382400-1675468799@hilltopstl.org
SUMMARY:Tuition Due
DESCRIPTION:
URL:https://hilltopstl.org/events/tuition-due-2023-02-03/
CATEGORIES:Events
END:VEVENT
END:VCALENDAR