BEGIN:VCALENDAR
VERSION:2.0
PRODID:-//Hilltop Child and Family Development Center - ECPv6.9.0//NONSGML v1.0//EN
CALSCALE:GREGORIAN
METHOD:PUBLISH
X-WR-CALNAME:Hilltop Child and Family Development Center
X-ORIGINAL-URL:https://hilltopstl.org
X-WR-CALDESC:Events for Hilltop Child and Family Development Center
REFRESH-INTERVAL;VALUE=DURATION:PT1H
X-Robots-Tag:noindex
X-PUBLISHED-TTL:PT1H
BEGIN:VTIMEZONE
TZID:UTC
BEGIN:STANDARD
TZOFFSETFROM:+0000
TZOFFSETTO:+0000
TZNAME:UTC
DTSTART:20210101T000000
END:STANDARD
END:VTIMEZONE
BEGIN:VEVENT
DTSTART;VALUE=DATE:20211011
DTEND;VALUE=DATE:20211012
DTSTAMP:20260421T004330
CREATED:20210921T150222Z
LAST-MODIFIED:20210921T150222Z
UID:834-1633910400-1633996799@hilltopstl.org
SUMMARY:Meals
DESCRIPTION:Breakfast: \nMilk\, Peaches and Whole Grain Corn Flakes \nLunch: \nMilk\, Peas/Mandarin Oranges\, Whole Grain Bun and Chicken Patty with Cheese \nAfternoon Snack: \nApple Juice and Whole Grain Wheat Thins
URL:https://hilltopstl.org/events/meals-6/
CATEGORIES:Meals
END:VEVENT
BEGIN:VEVENT
DTSTART;VALUE=DATE:20211008
DTEND;VALUE=DATE:20211009
DTSTAMP:20260421T004330
CREATED:20210920T210542Z
LAST-MODIFIED:20210920T210554Z
UID:831-1633651200-1633737599@hilltopstl.org
SUMMARY:Meals
DESCRIPTION:Breakfast: \nMilk\, pineapples\, whole grain toast\, sausage and jelly  \nLunch: \nMilk\, corn/mandarin oranges\, whole grain bread and chicken nuggets/slice cheese \nAfternoon Snack:\nMilk\, whole grain graham crackers and cream cheese
URL:https://hilltopstl.org/events/meals-5/
CATEGORIES:Meals
END:VEVENT
BEGIN:VEVENT
DTSTART;VALUE=DATE:20211007
DTEND;VALUE=DATE:20211008
DTSTAMP:20260421T004330
CREATED:20210920T210348Z
LAST-MODIFIED:20210920T210348Z
UID:829-1633564800-1633651199@hilltopstl.org
SUMMARY:Meals
DESCRIPTION:Breakfast: \nMilk\, applesauce\, whole grain biscuits and apple butter \nLunch:\nMilk\, lettuce\, salsa\, mixed fruit\, whole grain shells and ground beef tacos \nAfternoon Snack:\nMilk and whole grain Ritz Bitz Crackers
URL:https://hilltopstl.org/events/meals-4/
CATEGORIES:Meals
END:VEVENT
BEGIN:VEVENT
DTSTART;VALUE=DATE:20211006
DTEND;VALUE=DATE:20211007
DTSTAMP:20260421T004330
CREATED:20210920T210142Z
LAST-MODIFIED:20210923T135544Z
UID:827-1633478400-1633564799@hilltopstl.org
SUMMARY:Meals
DESCRIPTION:Breakfast: \nMilk\, Peaches and Whole Grain Corn Flakes \nLunch: \nMilk\, Salad/Peas/Pears and Whole Grain Cheese Pizza  \nAfternoon Snack: \nGrape Juice and Whole Grain Sun Chips
URL:https://hilltopstl.org/events/meals-3/
CATEGORIES:Meals
END:VEVENT
BEGIN:VEVENT
DTSTART;VALUE=DATE:20211005
DTEND;VALUE=DATE:20211006
DTSTAMP:20260421T004330
CREATED:20210920T210008Z
LAST-MODIFIED:20210923T135358Z
UID:825-1633392000-1633478399@hilltopstl.org
SUMMARY:Meals
DESCRIPTION:Breakfast: \nMilk\, Canned Apples\, Toast and Yogurt  \nLunch: \nMilk\, Mixed Vegetables/Tropical Fruit\, Whole Grain Bread and Turkey Sandwich with Cheese  \nAfternoon Snack: \nApple Juice and Whole Grain Cheese-Its
URL:https://hilltopstl.org/events/meals-2/
CATEGORIES:Meals
END:VEVENT
BEGIN:VEVENT
DTSTART;VALUE=DATE:20211004
DTEND;VALUE=DATE:20211005
DTSTAMP:20260421T004330
CREATED:20210910T162541Z
LAST-MODIFIED:20210923T135216Z
UID:712-1633305600-1633391999@hilltopstl.org
SUMMARY:Meals
DESCRIPTION:Breakfast: \nMilk\, Pineapples and Quaker Oatmeal \nLunch:\nMilk\, Green Beans\, Peaches and Macaroni & Cheese \nAfternoon Snack:\nMilk and Whole Grain Animal Crackers
URL:https://hilltopstl.org/events/meals/
CATEGORIES:Meals
END:VEVENT
BEGIN:VEVENT
DTSTART;VALUE=DATE:20210910
DTEND;VALUE=DATE:20210911
DTSTAMP:20260421T004330
CREATED:20210910T161849Z
LAST-MODIFIED:20210910T161849Z
UID:680-1631232000-1631318399@hilltopstl.org
SUMMARY:Tuition Due
DESCRIPTION:
URL:https://hilltopstl.org/events/tuition-due/
CATEGORIES:Events
END:VEVENT
END:VCALENDAR