BEGIN:VCALENDAR
VERSION:2.0
PRODID:-//Hilltop Child and Family Development Center - ECPv6.9.0//NONSGML v1.0//EN
CALSCALE:GREGORIAN
METHOD:PUBLISH
X-WR-CALNAME:Hilltop Child and Family Development Center
X-ORIGINAL-URL:https://hilltopstl.org
X-WR-CALDESC:Events for Hilltop Child and Family Development Center
REFRESH-INTERVAL;VALUE=DURATION:PT1H
X-Robots-Tag:noindex
X-PUBLISHED-TTL:PT1H
BEGIN:VTIMEZONE
TZID:UTC
BEGIN:STANDARD
TZOFFSETFROM:+0000
TZOFFSETTO:+0000
TZNAME:UTC
DTSTART:20230101T000000
END:STANDARD
END:VTIMEZONE
BEGIN:VEVENT
DTSTART;VALUE=DATE:20231124
DTEND;VALUE=DATE:20231125
DTSTAMP:20260420T103611
CREATED:20210910T161849Z
LAST-MODIFIED:20210910T161849Z
UID:1012-1700784000-1700870399@hilltopstl.org
SUMMARY:Tuition Due
DESCRIPTION:
URL:https://hilltopstl.org/events/tuition-due-2023-11-24/
CATEGORIES:Events
END:VEVENT
BEGIN:VEVENT
DTSTART;VALUE=DATE:20231201
DTEND;VALUE=DATE:20231202
DTSTAMP:20260420T103611
CREATED:20210910T161849Z
LAST-MODIFIED:20210910T161849Z
UID:1015-1701388800-1701475199@hilltopstl.org
SUMMARY:Tuition Due
DESCRIPTION:
URL:https://hilltopstl.org/events/tuition-due-2023-12-01/
CATEGORIES:Events
END:VEVENT
BEGIN:VEVENT
DTSTART;VALUE=DATE:20231208
DTEND;VALUE=DATE:20231209
DTSTAMP:20260420T103611
CREATED:20210910T161849Z
LAST-MODIFIED:20210910T161849Z
UID:1018-1701993600-1702079999@hilltopstl.org
SUMMARY:Tuition Due
DESCRIPTION:
URL:https://hilltopstl.org/events/tuition-due-2023-12-08/
CATEGORIES:Events
END:VEVENT
BEGIN:VEVENT
DTSTART;VALUE=DATE:20231215
DTEND;VALUE=DATE:20231216
DTSTAMP:20260420T103611
CREATED:20210910T161849Z
LAST-MODIFIED:20210910T161849Z
UID:1022-1702598400-1702684799@hilltopstl.org
SUMMARY:Tuition Due
DESCRIPTION:
URL:https://hilltopstl.org/events/tuition-due-2023-12-15/
CATEGORIES:Events
END:VEVENT
BEGIN:VEVENT
DTSTART;VALUE=DATE:20231222
DTEND;VALUE=DATE:20231223
DTSTAMP:20260420T103611
CREATED:20210910T161849Z
LAST-MODIFIED:20210910T161849Z
UID:1028-1703203200-1703289599@hilltopstl.org
SUMMARY:Tuition Due
DESCRIPTION:
URL:https://hilltopstl.org/events/tuition-due-2023-12-22/
CATEGORIES:Events
END:VEVENT
BEGIN:VEVENT
DTSTART;VALUE=DATE:20231229
DTEND;VALUE=DATE:20231230
DTSTAMP:20260420T103611
CREATED:20210910T161849Z
LAST-MODIFIED:20210910T161849Z
UID:1029-1703808000-1703894399@hilltopstl.org
SUMMARY:Tuition Due
DESCRIPTION:
URL:https://hilltopstl.org/events/tuition-due-2023-12-29/
CATEGORIES:Events
END:VEVENT
BEGIN:VEVENT
DTSTART;VALUE=DATE:20240105
DTEND;VALUE=DATE:20240106
DTSTAMP:20260420T103611
CREATED:20210910T161849Z
LAST-MODIFIED:20210910T161849Z
UID:1030-1704412800-1704499199@hilltopstl.org
SUMMARY:Tuition Due
DESCRIPTION:
URL:https://hilltopstl.org/events/tuition-due-2024-01-05/
CATEGORIES:Events
END:VEVENT
BEGIN:VEVENT
DTSTART;VALUE=DATE:20240112
DTEND;VALUE=DATE:20240113
DTSTAMP:20260420T103611
CREATED:20210910T161849Z
LAST-MODIFIED:20210910T161849Z
UID:1031-1705017600-1705103999@hilltopstl.org
SUMMARY:Tuition Due
DESCRIPTION:
URL:https://hilltopstl.org/events/tuition-due-2024-01-12/
CATEGORIES:Events
END:VEVENT
BEGIN:VEVENT
DTSTART;VALUE=DATE:20240119
DTEND;VALUE=DATE:20240120
DTSTAMP:20260420T103611
CREATED:20210910T161849Z
LAST-MODIFIED:20210910T161849Z
UID:1032-1705622400-1705708799@hilltopstl.org
SUMMARY:Tuition Due
DESCRIPTION:
URL:https://hilltopstl.org/events/tuition-due-2024-01-19/
CATEGORIES:Events
END:VEVENT
BEGIN:VEVENT
DTSTART;VALUE=DATE:20240126
DTEND;VALUE=DATE:20240127
DTSTAMP:20260420T103611
CREATED:20210910T161849Z
LAST-MODIFIED:20210910T161849Z
UID:1143-1706227200-1706313599@hilltopstl.org
SUMMARY:Tuition Due
DESCRIPTION:
URL:https://hilltopstl.org/events/tuition-due-2024-01-26/
CATEGORIES:Events
END:VEVENT
BEGIN:VEVENT
DTSTART;VALUE=DATE:20240202
DTEND;VALUE=DATE:20240203
DTSTAMP:20260420T103611
CREATED:20210910T161849Z
LAST-MODIFIED:20210910T161849Z
UID:1144-1706832000-1706918399@hilltopstl.org
SUMMARY:Tuition Due
DESCRIPTION:
URL:https://hilltopstl.org/events/tuition-due-2024-02-02/
CATEGORIES:Events
END:VEVENT
BEGIN:VEVENT
DTSTART;VALUE=DATE:20240209
DTEND;VALUE=DATE:20240210
DTSTAMP:20260420T103611
CREATED:20210910T161849Z
LAST-MODIFIED:20210910T161849Z
UID:1145-1707436800-1707523199@hilltopstl.org
SUMMARY:Tuition Due
DESCRIPTION:
URL:https://hilltopstl.org/events/tuition-due-2024-02-09/
CATEGORIES:Events
END:VEVENT
BEGIN:VEVENT
DTSTART;VALUE=DATE:20240216
DTEND;VALUE=DATE:20240217
DTSTAMP:20260420T103611
CREATED:20210910T161849Z
LAST-MODIFIED:20210910T161849Z
UID:1151-1708041600-1708127999@hilltopstl.org
SUMMARY:Tuition Due
DESCRIPTION:
URL:https://hilltopstl.org/events/tuition-due-2024-02-16/
CATEGORIES:Events
END:VEVENT
BEGIN:VEVENT
DTSTART;VALUE=DATE:20240223
DTEND;VALUE=DATE:20240224
DTSTAMP:20260420T103611
CREATED:20210910T161849Z
LAST-MODIFIED:20210910T161849Z
UID:1152-1708646400-1708732799@hilltopstl.org
SUMMARY:Tuition Due
DESCRIPTION:
URL:https://hilltopstl.org/events/tuition-due-2024-02-23/
CATEGORIES:Events
END:VEVENT
BEGIN:VEVENT
DTSTART;VALUE=DATE:20240301
DTEND;VALUE=DATE:20240302
DTSTAMP:20260420T103611
CREATED:20210910T161849Z
LAST-MODIFIED:20210910T161849Z
UID:1153-1709251200-1709337599@hilltopstl.org
SUMMARY:Tuition Due
DESCRIPTION:
URL:https://hilltopstl.org/events/tuition-due-2024-03-01/
CATEGORIES:Events
END:VEVENT
BEGIN:VEVENT
DTSTART;VALUE=DATE:20240308
DTEND;VALUE=DATE:20240309
DTSTAMP:20260420T103611
CREATED:20210910T161849Z
LAST-MODIFIED:20210910T161849Z
UID:1154-1709856000-1709942399@hilltopstl.org
SUMMARY:Tuition Due
DESCRIPTION:
URL:https://hilltopstl.org/events/tuition-due-2024-03-08/
CATEGORIES:Events
END:VEVENT
BEGIN:VEVENT
DTSTART;VALUE=DATE:20240315
DTEND;VALUE=DATE:20240316
DTSTAMP:20260420T103611
CREATED:20210910T161849Z
LAST-MODIFIED:20210910T161849Z
UID:1155-1710460800-1710547199@hilltopstl.org
SUMMARY:Tuition Due
DESCRIPTION:
URL:https://hilltopstl.org/events/tuition-due-2024-03-15/
CATEGORIES:Events
END:VEVENT
BEGIN:VEVENT
DTSTART;VALUE=DATE:20240322
DTEND;VALUE=DATE:20240323
DTSTAMP:20260420T103611
CREATED:20210910T161849Z
LAST-MODIFIED:20210910T161849Z
UID:1156-1711065600-1711151999@hilltopstl.org
SUMMARY:Tuition Due
DESCRIPTION:
URL:https://hilltopstl.org/events/tuition-due-2024-03-22/
CATEGORIES:Events
END:VEVENT
BEGIN:VEVENT
DTSTART;VALUE=DATE:20240329
DTEND;VALUE=DATE:20240330
DTSTAMP:20260420T103611
CREATED:20210910T161849Z
LAST-MODIFIED:20210910T161849Z
UID:1210-1711670400-1711756799@hilltopstl.org
SUMMARY:Tuition Due
DESCRIPTION:
URL:https://hilltopstl.org/events/tuition-due-2024-03-29/
CATEGORIES:Events
END:VEVENT
BEGIN:VEVENT
DTSTART;VALUE=DATE:20240405
DTEND;VALUE=DATE:20240406
DTSTAMP:20260420T103611
CREATED:20210910T161849Z
LAST-MODIFIED:20210910T161849Z
UID:1217-1712275200-1712361599@hilltopstl.org
SUMMARY:Tuition Due
DESCRIPTION:
URL:https://hilltopstl.org/events/tuition-due-2024-04-05/
CATEGORIES:Events
END:VEVENT
BEGIN:VEVENT
DTSTART;VALUE=DATE:20240412
DTEND;VALUE=DATE:20240413
DTSTAMP:20260420T103611
CREATED:20210910T161849Z
LAST-MODIFIED:20210910T161849Z
UID:1218-1712880000-1712966399@hilltopstl.org
SUMMARY:Tuition Due
DESCRIPTION:
URL:https://hilltopstl.org/events/tuition-due-2024-04-12/
CATEGORIES:Events
END:VEVENT
BEGIN:VEVENT
DTSTART;VALUE=DATE:20240419
DTEND;VALUE=DATE:20240420
DTSTAMP:20260420T103611
CREATED:20210910T161849Z
LAST-MODIFIED:20210910T161849Z
UID:1219-1713484800-1713571199@hilltopstl.org
SUMMARY:Tuition Due
DESCRIPTION:
URL:https://hilltopstl.org/events/tuition-due-2024-04-19/
CATEGORIES:Events
END:VEVENT
BEGIN:VEVENT
DTSTART;VALUE=DATE:20240426
DTEND;VALUE=DATE:20240427
DTSTAMP:20260420T103611
CREATED:20210910T161849Z
LAST-MODIFIED:20210910T161849Z
UID:1220-1714089600-1714175999@hilltopstl.org
SUMMARY:Tuition Due
DESCRIPTION:
URL:https://hilltopstl.org/events/tuition-due-2024-04-26/
CATEGORIES:Events
END:VEVENT
BEGIN:VEVENT
DTSTART;VALUE=DATE:20240503
DTEND;VALUE=DATE:20240504
DTSTAMP:20260420T103611
CREATED:20210910T161849Z
LAST-MODIFIED:20210910T161849Z
UID:1221-1714694400-1714780799@hilltopstl.org
SUMMARY:Tuition Due
DESCRIPTION:
URL:https://hilltopstl.org/events/tuition-due-2024-05-03/
CATEGORIES:Events
END:VEVENT
BEGIN:VEVENT
DTSTART;VALUE=DATE:20240510
DTEND;VALUE=DATE:20240511
DTSTAMP:20260420T103611
CREATED:20210910T161849Z
LAST-MODIFIED:20210910T161849Z
UID:1222-1715299200-1715385599@hilltopstl.org
SUMMARY:Tuition Due
DESCRIPTION:
URL:https://hilltopstl.org/events/tuition-due-2024-05-10/
CATEGORIES:Events
END:VEVENT
BEGIN:VEVENT
DTSTART;VALUE=DATE:20240517
DTEND;VALUE=DATE:20240518
DTSTAMP:20260420T103611
CREATED:20210910T161849Z
LAST-MODIFIED:20210910T161849Z
UID:1223-1715904000-1715990399@hilltopstl.org
SUMMARY:Tuition Due
DESCRIPTION:
URL:https://hilltopstl.org/events/tuition-due-2024-05-17/
CATEGORIES:Events
END:VEVENT
BEGIN:VEVENT
DTSTART;VALUE=DATE:20240524
DTEND;VALUE=DATE:20240525
DTSTAMP:20260420T103611
CREATED:20210910T161849Z
LAST-MODIFIED:20210910T161849Z
UID:1224-1716508800-1716595199@hilltopstl.org
SUMMARY:Tuition Due
DESCRIPTION:
URL:https://hilltopstl.org/events/tuition-due-2024-05-24/
CATEGORIES:Events
END:VEVENT
BEGIN:VEVENT
DTSTART;VALUE=DATE:20240531
DTEND;VALUE=DATE:20240601
DTSTAMP:20260420T103611
CREATED:20210910T161849Z
LAST-MODIFIED:20210910T161849Z
UID:1225-1717113600-1717199999@hilltopstl.org
SUMMARY:Tuition Due
DESCRIPTION:
URL:https://hilltopstl.org/events/tuition-due-2024-05-31/
CATEGORIES:Events
END:VEVENT
BEGIN:VEVENT
DTSTART;VALUE=DATE:20240607
DTEND;VALUE=DATE:20240608
DTSTAMP:20260420T103611
CREATED:20210910T161849Z
LAST-MODIFIED:20210910T161849Z
UID:1226-1717718400-1717804799@hilltopstl.org
SUMMARY:Tuition Due
DESCRIPTION:
URL:https://hilltopstl.org/events/tuition-due-2024-06-07/
CATEGORIES:Events
END:VEVENT
BEGIN:VEVENT
DTSTART;VALUE=DATE:20240614
DTEND;VALUE=DATE:20240615
DTSTAMP:20260420T103611
CREATED:20210910T161849Z
LAST-MODIFIED:20210910T161849Z
UID:1227-1718323200-1718409599@hilltopstl.org
SUMMARY:Tuition Due
DESCRIPTION:
URL:https://hilltopstl.org/events/tuition-due-2024-06-14/
CATEGORIES:Events
END:VEVENT
END:VCALENDAR