BEGIN:VCALENDAR
VERSION:2.0
PRODID:-//Hilltop Child and Family Development Center - ECPv6.9.0//NONSGML v1.0//EN
CALSCALE:GREGORIAN
METHOD:PUBLISH
X-WR-CALNAME:Hilltop Child and Family Development Center
X-ORIGINAL-URL:https://hilltopstl.org
X-WR-CALDESC:Events for Hilltop Child and Family Development Center
REFRESH-INTERVAL;VALUE=DURATION:PT1H
X-Robots-Tag:noindex
X-PUBLISHED-TTL:PT1H
BEGIN:VTIMEZONE
TZID:UTC
BEGIN:STANDARD
TZOFFSETFROM:+0000
TZOFFSETTO:+0000
TZNAME:UTC
DTSTART:20220101T000000
END:STANDARD
END:VTIMEZONE
BEGIN:VEVENT
DTSTART;VALUE=DATE:20220919
DTEND;VALUE=DATE:20220920
DTSTAMP:20260423T094808
CREATED:20220908T190429Z
LAST-MODIFIED:20220908T190429Z
UID:1266-1663545600-1663631999@hilltopstl.org
SUMMARY:Breakfast: CN WG Berry Cream Bites\, Blueberries\, 1% Milk   Lunch Hot: Sloppy Joe\, Corn\, Apples\, 1% Milk    Lunch Cold: Caesar / Garden Salad Bar    Snack: 1% Milk\, Banana
DESCRIPTION:
URL:https://hilltopstl.org/events/breakfast-cn-wg-berry-cream-bites-blueberries-1-milk-lunch-hot-sloppy-joe-corn-apples-1-milk-lunch-cold-caesar-garden-salad-bar-snack-1-milk-banana/
CATEGORIES:Meals
END:VEVENT
END:VCALENDAR