BEGIN:VCALENDAR
VERSION:2.0
PRODID:-//Hilltop Child and Family Development Center - ECPv6.9.0//NONSGML v1.0//EN
CALSCALE:GREGORIAN
METHOD:PUBLISH
X-ORIGINAL-URL:https://hilltopstl.org
X-WR-CALDESC:Events for Hilltop Child and Family Development Center
REFRESH-INTERVAL;VALUE=DURATION:PT1H
X-Robots-Tag:noindex
X-PUBLISHED-TTL:PT1H
BEGIN:VTIMEZONE
TZID:UTC
BEGIN:STANDARD
TZOFFSETFROM:+0000
TZOFFSETTO:+0000
TZNAME:UTC
DTSTART:20210101T000000
END:STANDARD
END:VTIMEZONE
BEGIN:VEVENT
DTSTART;VALUE=DATE:20211105
DTEND;VALUE=DATE:20211106
DTSTAMP:20260423T163326
CREATED:20210921T214359Z
LAST-MODIFIED:20210921T214359Z
UID:872-1636070400-1636156799@hilltopstl.org
SUMMARY:Meals
DESCRIPTION:Breakfast: \nMilk\, Pineapples\, Biscuits and Chicken Patty \nLunch: \nMilk\, Broccoli/Pears and Macaroni & Cheese  \nAfternoon Snack: \nApplesauce and Whole Grain Graham Crackers
URL:https://hilltopstl.org/events/meals-25/
CATEGORIES:Meals
END:VEVENT
END:VCALENDAR