BEGIN:VCALENDAR
VERSION:2.0
PRODID:-//Hilltop Child and Family Development Center - ECPv6.9.0//NONSGML v1.0//EN
CALSCALE:GREGORIAN
METHOD:PUBLISH
X-ORIGINAL-URL:https://hilltopstl.org
X-WR-CALDESC:Events for Hilltop Child and Family Development Center
REFRESH-INTERVAL;VALUE=DURATION:PT1H
X-Robots-Tag:noindex
X-PUBLISHED-TTL:PT1H
BEGIN:VTIMEZONE
TZID:UTC
BEGIN:STANDARD
TZOFFSETFROM:+0000
TZOFFSETTO:+0000
TZNAME:UTC
DTSTART:20210101T000000
END:STANDARD
END:VTIMEZONE
BEGIN:VEVENT
DTSTART;VALUE=DATE:20211102
DTEND;VALUE=DATE:20211103
DTSTAMP:20260423T163749
CREATED:20210921T214029Z
LAST-MODIFIED:20210921T214029Z
UID:866-1635811200-1635897599@hilltopstl.org
SUMMARY:Meals
DESCRIPTION:Breakfast: \nMilk\, Mixed Fruit\, Whole Grain Rice and Sausage  \nLunch: \nMilk\, Mashed Potatoes/Green Beans\, Peaches and Meatloaf \nAfternoon Snack: \nBanana\, Whole Grain Graham Crackers and Water
URL:https://hilltopstl.org/events/meals-22/
CATEGORIES:Meals
END:VEVENT
END:VCALENDAR