BEGIN:VCALENDAR
VERSION:2.0
PRODID:-//Hilltop Child and Family Development Center - ECPv6.9.0//NONSGML v1.0//EN
CALSCALE:GREGORIAN
METHOD:PUBLISH
X-WR-CALNAME:Hilltop Child and Family Development Center
X-ORIGINAL-URL:https://hilltopstl.org
X-WR-CALDESC:Events for Hilltop Child and Family Development Center
REFRESH-INTERVAL;VALUE=DURATION:PT1H
X-Robots-Tag:noindex
X-PUBLISHED-TTL:PT1H
BEGIN:VTIMEZONE
TZID:UTC
BEGIN:STANDARD
TZOFFSETFROM:+0000
TZOFFSETTO:+0000
TZNAME:UTC
DTSTART:20210101T000000
END:STANDARD
END:VTIMEZONE
BEGIN:VEVENT
DTSTART;VALUE=DATE:20211029
DTEND;VALUE=DATE:20211030
DTSTAMP:20260423T175128
CREATED:20210921T213235Z
LAST-MODIFIED:20210921T213235Z
UID:862-1635465600-1635551999@hilltopstl.org
SUMMARY:Meals
DESCRIPTION:Breakfast: \nMilk\, Pears\, Whole Grain Biscuits and Apple Butter  \nLunch: \nMilk\, Corn/Pineapple\, Whole Grain Bread and Chef Boyardee Ravioli \nAfternoon Snack: \nJuice and Whole Grain Chips
URL:https://hilltopstl.org/events/meals-20/
CATEGORIES:Meals
END:VEVENT
END:VCALENDAR