BEGIN:VCALENDAR
VERSION:2.0
PRODID:-//Hilltop Child and Family Development Center - ECPv6.9.0//NONSGML v1.0//EN
CALSCALE:GREGORIAN
METHOD:PUBLISH
X-ORIGINAL-URL:https://hilltopstl.org
X-WR-CALDESC:Events for Hilltop Child and Family Development Center
REFRESH-INTERVAL;VALUE=DURATION:PT1H
X-Robots-Tag:noindex
X-PUBLISHED-TTL:PT1H
BEGIN:VTIMEZONE
TZID:UTC
BEGIN:STANDARD
TZOFFSETFROM:+0000
TZOFFSETTO:+0000
TZNAME:UTC
DTSTART:20210101T000000
END:STANDARD
END:VTIMEZONE
BEGIN:VEVENT
DTSTART;VALUE=DATE:20211028
DTEND;VALUE=DATE:20211029
DTSTAMP:20260423T175349
CREATED:20210921T213113Z
LAST-MODIFIED:20210921T213113Z
UID:860-1635379200-1635465599@hilltopstl.org
SUMMARY:Meals
DESCRIPTION:Breakfast: \nMilk\, Mixed Fruit and Whole Grain Corn Flakes \nLunch: \nMilk\, Lettuce/Tomatoes/Mixed Tropical Fruit\, Whole Grain Bun\, Hamburger with Cheese and French Fries \nAfternoon Snack: \nMilk\, Whole Grain Graham Crackers and Cream Cheese
URL:https://hilltopstl.org/events/meals-19/
CATEGORIES:Meals
END:VEVENT
END:VCALENDAR