BEGIN:VCALENDAR
VERSION:2.0
PRODID:-//Hilltop Child and Family Development Center - ECPv6.9.0//NONSGML v1.0//EN
CALSCALE:GREGORIAN
METHOD:PUBLISH
X-ORIGINAL-URL:https://hilltopstl.org
X-WR-CALDESC:Events for Hilltop Child and Family Development Center
REFRESH-INTERVAL;VALUE=DURATION:PT1H
X-Robots-Tag:noindex
X-PUBLISHED-TTL:PT1H
BEGIN:VTIMEZONE
TZID:UTC
BEGIN:STANDARD
TZOFFSETFROM:+0000
TZOFFSETTO:+0000
TZNAME:UTC
DTSTART:20210101T000000
END:STANDARD
END:VTIMEZONE
BEGIN:VEVENT
DTSTART;VALUE=DATE:20211026
DTEND;VALUE=DATE:20211027
DTSTAMP:20260423T175347
CREATED:20210921T212808Z
LAST-MODIFIED:20210921T212808Z
UID:856-1635206400-1635292799@hilltopstl.org
SUMMARY:Meals
DESCRIPTION:Breakfast: \nMilk\, Pineapples and Whole Grain French Toast Sticks \nLunch: \nMilk\, String Beans/Mixed Fruit\, Whole Grain Bread\, BBQ Chicken and Rice \nAfternoon Snack: \nJuice and Whole Grain Wheat Thins
URL:https://hilltopstl.org/events/meals-17/
CATEGORIES:Meals
END:VEVENT
END:VCALENDAR