BEGIN:VCALENDAR
VERSION:2.0
PRODID:-//Hilltop Child and Family Development Center - ECPv6.9.0//NONSGML v1.0//EN
CALSCALE:GREGORIAN
METHOD:PUBLISH
X-ORIGINAL-URL:https://hilltopstl.org
X-WR-CALDESC:Events for Hilltop Child and Family Development Center
REFRESH-INTERVAL;VALUE=DURATION:PT1H
X-Robots-Tag:noindex
X-PUBLISHED-TTL:PT1H
BEGIN:VTIMEZONE
TZID:UTC
BEGIN:STANDARD
TZOFFSETFROM:+0000
TZOFFSETTO:+0000
TZNAME:UTC
DTSTART:20210101T000000
END:STANDARD
END:VTIMEZONE
BEGIN:VEVENT
DTSTART;VALUE=DATE:20211020
DTEND;VALUE=DATE:20211021
DTSTAMP:20260423T175340
CREATED:20210921T212013Z
LAST-MODIFIED:20210921T212013Z
UID:848-1634688000-1634774399@hilltopstl.org
SUMMARY:Meals
DESCRIPTION:Breakfast: \nMilk\, Pears and Quaker Oatmeal \nLunch: \nMilk\, Potatoes/Mixed Fruit\, Whole Grain Pancakes and Sausage \nAfternoon Snack: \nJuice and Whole Grain Sun Chips
URL:https://hilltopstl.org/events/meals-13/
CATEGORIES:Meals
END:VEVENT
END:VCALENDAR