BEGIN:VCALENDAR
VERSION:2.0
PRODID:-//Hilltop Child and Family Development Center - ECPv6.9.0//NONSGML v1.0//EN
CALSCALE:GREGORIAN
METHOD:PUBLISH
X-WR-CALNAME:Hilltop Child and Family Development Center
X-ORIGINAL-URL:https://hilltopstl.org
X-WR-CALDESC:Events for Hilltop Child and Family Development Center
REFRESH-INTERVAL;VALUE=DURATION:PT1H
X-Robots-Tag:noindex
X-PUBLISHED-TTL:PT1H
BEGIN:VTIMEZONE
TZID:UTC
BEGIN:STANDARD
TZOFFSETFROM:+0000
TZOFFSETTO:+0000
TZNAME:UTC
DTSTART:20210101T000000
END:STANDARD
END:VTIMEZONE
BEGIN:VEVENT
DTSTART;VALUE=DATE:20211008
DTEND;VALUE=DATE:20211009
DTSTAMP:20260423T175127
CREATED:20210920T210542Z
LAST-MODIFIED:20210920T210554Z
UID:831-1633651200-1633737599@hilltopstl.org
SUMMARY:Meals
DESCRIPTION:Breakfast: \nMilk\, pineapples\, whole grain toast\, sausage and jelly  \nLunch: \nMilk\, corn/mandarin oranges\, whole grain bread and chicken nuggets/slice cheese \nAfternoon Snack:\nMilk\, whole grain graham crackers and cream cheese
URL:https://hilltopstl.org/events/meals-5/
CATEGORIES:Meals
END:VEVENT
END:VCALENDAR